BEGIN:VCALENDAR
VERSION:2.0
PRODID:-//wp-events-plugin.com//7.2.3.1//EN
TZID:America/Los_Angeles
X-WR-TIMEZONE:America/Los_Angeles
BEGIN:VEVENT
UID:45@biseniorcenter.org
DTSTART;TZID=America/Los_Angeles:20220202T113000
DTEND;TZID=America/Los_Angeles:20220202T123000
DTSTAMP:20220129T134940Z
URL:https://biseniorcenter.org/events/aarp-tax-aide-program-on-bainbridge/
SUMMARY:AARP Tax Aide Program on Bainbridge
DESCRIPTION:The discussion will focus on the goals of the TaxAide program. 
 We'll cover its scope\, who are the TaxAide tax preparers\, how are they c
 ertified and trained\, what types of tax returns can be done\, and some co
 mmon misconceptions about the program.  For anyone interested in using th
 is free service\, there will be details on what is required on the taxpaye
 r's part\, how to sign up for an appointment\, and what to expect of the p
 rocess of their tax return preparation and filing with the IRS.\n\n\n\n&nb
 sp\;\n\nJoin on Zoom: https://us06web.zoom.us/j/82524617784?pwd=NXVVeExscT
 dpd3ZlY05uTEdvaVNuUT09
END:VEVENT
BEGIN:VTIMEZONE
TZID:America/Los_Angeles
X-LIC-LOCATION:America/Los_Angeles
BEGIN:STANDARD
DTSTART:20211107T010000
TZOFFSETFROM:-0700
TZOFFSETTO:-0800
TZNAME:PST
END:STANDARD
END:VTIMEZONE
END:VCALENDAR