BEGIN:VCALENDAR
VERSION:2.0
PRODID:-//wp-events-plugin.com//7.2.3.1//EN
TZID:America/Los_Angeles
X-WR-TIMEZONE:America/Los_Angeles
BEGIN:VEVENT
UID:44@biseniorcenter.org
DTSTART;TZID=America/Los_Angeles:20220131T113000
DTEND;TZID=America/Los_Angeles:20220131T123000
DTSTAMP:20220129T134231Z
URL:https://biseniorcenter.org/events/maintaining-independence-in-your-hom
 e/
SUMMARY:Maintaining Independence in Your Home
DESCRIPTION:Join Irene Herman\, Independent Living Program Manager from Hou
 sing Resources Bainbridge. Learn about simple home modifications that can 
 improve health and safety\, while reducing the risk of future falls\, whet
 her it’s for you or a loved one. Irene will provide resources and tips f
 or both qualifying islanders and over-qualified islanders alike.\n\n\n\nJo
 in us on Zoom https://us06web.zoom.us/j/82524617784?pwd=NXVVeExscTdpd3ZlY0
 5uTEdvaVNuUT09
END:VEVENT
BEGIN:VTIMEZONE
TZID:America/Los_Angeles
X-LIC-LOCATION:America/Los_Angeles
BEGIN:STANDARD
DTSTART:20211107T010000
TZOFFSETFROM:-0700
TZOFFSETTO:-0800
TZNAME:PST
END:STANDARD
END:VTIMEZONE
END:VCALENDAR