BEGIN:VCALENDAR
VERSION:2.0
PRODID:-//wp-events-plugin.com//7.2.3.1//EN
TZID:America/Los_Angeles
X-WR-TIMEZONE:America/Los_Angeles
BEGIN:VEVENT
UID:47@biseniorcenter.org
DTSTART;TZID=America/Los_Angeles:20220209T113000
DTEND;TZID=America/Los_Angeles:20220209T123000
DTSTAMP:20220131T171915Z
URL:https://biseniorcenter.org/events/neighborhood-of-port-madison/
SUMMARY:Neighborhood of Port Madison
DESCRIPTION:Join us in a conversation about Port Madison’s past and prese
 nt.  Topics will include perspectives from the archeological record\, lif
 e in Port Madison seventy years ago\, and reflections of a filmmaker who g
 rew up in Port Madison.\n\nPanelists: Dennis Lewarch\, Margaret Seed\, and
  Kevin Tomlinson\n\n\nHosted by the BI Historical Museum and BI Senior Com
 munity Center\n\n\n\nTo enjoy the program\, click on this link: https://u
 s06web.zoom.us/j/82524617784?pwd=NXVVeExscTdpd3ZlY05uTEdvaVNuUT09
END:VEVENT
BEGIN:VTIMEZONE
TZID:America/Los_Angeles
X-LIC-LOCATION:America/Los_Angeles
BEGIN:STANDARD
DTSTART:20211107T010000
TZOFFSETFROM:-0700
TZOFFSETTO:-0800
TZNAME:PST
END:STANDARD
END:VTIMEZONE
END:VCALENDAR