BEGIN:VCALENDAR
VERSION:2.0
PRODID:-//wp-events-plugin.com//7.2.3.1//EN
TZID:America/Los_Angeles
X-WR-TIMEZONE:America/Los_Angeles
BEGIN:VEVENT
UID:46@biseniorcenter.org
DTSTART;TZID=America/Los_Angeles:20220204T113000
DTEND;TZID=America/Los_Angeles:20220204T123000
DTSTAMP:20220129T140034Z
URL:https://biseniorcenter.org/events/politics-with-david-harrison-2/
SUMMARY:Politics with David Harrison
DESCRIPTION:Recap and handicap national politics with David Harrison\, seni
 or lecturer emeritus at the Evans School of Public Policy and Governance 
 at the University of Washington.\n\n\n\n&nbsp\;\n\nJoin us on Zoom: https:
 //us06web.zoom.us/j/82524617784?pwd=NXVVeExscTdpd3ZlY05uTEdvaVNuUT09
END:VEVENT
BEGIN:VTIMEZONE
TZID:America/Los_Angeles
X-LIC-LOCATION:America/Los_Angeles
BEGIN:STANDARD
DTSTART:20211107T010000
TZOFFSETFROM:-0700
TZOFFSETTO:-0800
TZNAME:PST
END:STANDARD
END:VTIMEZONE
END:VCALENDAR