BEGIN:VCALENDAR
VERSION:2.0
PRODID:-//wp-events-plugin.com//7.2.3.1//EN
TZID:America/Los_Angeles
X-WR-TIMEZONE:America/Los_Angeles
BEGIN:VEVENT
UID:48@biseniorcenter.org
DTSTART;TZID=America/Los_Angeles:20220207T113000
DTEND;TZID=America/Los_Angeles:20220207T123000
DTSTAMP:20220203T165136Z
URL:https://biseniorcenter.org/events/sippin-tea-black-history-in-kitsap/
SUMMARY:Sippin' Tea: Black History in Kitsap
DESCRIPTION:Join a rich\, relaxed\, yet passionate conversation with Karen 
 Vargas and Marva Jones as we sip tea together. We'll look back at  the lo
 ng journey of preserving and defending Kitsap's Black history legacy and c
 elebrate the amazing progress as well. We'll discuss 2022's Black History 
 theme of Truth and Reconciliation and discuss the work Karen and Marva hav
 e invested in supporting and nurturing Black and BIPOC youth in Kitsap Sch
 ools as well. Brew up a cup and join us!\n\n&nbsp\;\n\n\n\nJoin us on Zoom
 :\n\nhttps://us06web.zoom.us/j/82524617784?pwd=NXVVeExscTdpd3ZlY05uTEdvaVN
 uUT09
END:VEVENT
BEGIN:VTIMEZONE
TZID:America/Los_Angeles
X-LIC-LOCATION:America/Los_Angeles
BEGIN:STANDARD
DTSTART:20211107T010000
TZOFFSETFROM:-0700
TZOFFSETTO:-0800
TZNAME:PST
END:STANDARD
END:VTIMEZONE
END:VCALENDAR